
BEGIN:VCALENDAR
VERSION:2.0
PRODID:-//Four Daughters Vineyard &amp; Winery - ECPv6.15.20//NONSGML v1.0//EN
CALSCALE:GREGORIAN
METHOD:PUBLISH
X-ORIGINAL-URL:https://fourdaughtersvineyard.com
X-WR-CALDESC:Events for Four Daughters Vineyard &amp; Winery
REFRESH-INTERVAL;VALUE=DURATION:PT1H
X-Robots-Tag:noindex
X-PUBLISHED-TTL:PT1H
BEGIN:VTIMEZONE
TZID:UTC
BEGIN:STANDARD
TZOFFSETFROM:+0000
TZOFFSETTO:+0000
TZNAME:UTC
DTSTART:20180101T000000
END:STANDARD
END:VTIMEZONE
BEGIN:VEVENT
DTSTART;TZID=UTC:20191129T170000
DTEND;TZID=UTC:20191129T200000
DTSTAMP:20260425T063710
CREATED:20160427T183931Z
LAST-MODIFIED:20160526T191939Z
UID:10008905-1575046800-1575057600@fourdaughtersvineyard.com
SUMMARY:Live Music
DESCRIPTION:Come join us for live music in the tasting room!
URL:https://fourdaughtersvineyard.com/visit/live-music/2019-11-29/
LOCATION:Tasting Room
ATTACH;FMTTYPE=image/jpeg:https://fourdaughtersvineyard.com/wp-content/uploads/2016/04/live-music-1.jpg
END:VEVENT
BEGIN:VEVENT
DTSTART;TZID=UTC:20191129T170000
DTEND;TZID=UTC:20191129T210000
DTSTAMP:20260425T063710
CREATED:20181108T100331Z
LAST-MODIFIED:20191107T015154Z
UID:10009240-1575046800-1575061200@fourdaughtersvineyard.com
SUMMARY:Christmas Market--Curated by the Four Daughters! Upscale Holiday Gifts and 20+Artists
DESCRIPTION:Do you dream of sipping a steaming cup of mulled wine amid a flurry of joyful Christmas market shoppers?  Or fantasize about the smell of roasted nuts and spicy-sweet gingerbread wafting through the air? \nNow…what did you say your Christmas shopping plans were? \nShop our expansive Christmas Market\, curated personally by the four daughters\, featuring upscale holiday gifts and uniquely gorgeous works by local artisans and artists.  Look for  upscale holiday ornaments\, hand-knit stocking caps\, classy gift items\, water color paintings\, gorgeous water bottles\, handmade soap\, jewelry\, and children’s items.  Warm up by our fireplace\, sip your wine\, and enjoy holiday shopping this year…Merry Christmas! \n#ShopSmall\nOver 20 artists featured\, in addition to an entire market of upscale boutique gifts! \nNorthern Girl\nMegan Broeren Designs\nElin Johnson Art\nHometown Decor – Shelby Bucher\nRural Root Company\nDottir Jewelry\nJess Bruggink\nHandmade Company\nNightingale Market\nBig Stick Studio\nSeeds Jewelry\nAHHA Co.\nSchmidt Farms\nHigh Forest Knits\nKnots by Nancy\nHeather M. Roberts Art\nThe Painted Fence\nShaggy Baggy\nEden Wellness LLC\nAuntie’s What Knot Shoppe\nLori Miller\n 
URL:https://fourdaughtersvineyard.com/visit/welcome-to-our-christmas-market/2019-11-29/
ATTACH;FMTTYPE=application/pdf:https://fourdaughtersvineyard.com/wp-content/uploads/2018/11/Save-the-date-5.pdf
END:VEVENT
BEGIN:VEVENT
DTSTART;TZID=UTC:20191130T110000
DTEND;TZID=UTC:20191130T150000
DTSTAMP:20260425T063710
CREATED:20181108T100331Z
LAST-MODIFIED:20191107T015154Z
UID:10009241-1575111600-1575126000@fourdaughtersvineyard.com
SUMMARY:Christmas Market--Curated by the Four Daughters! Upscale Holiday Gifts and 20+Artists
DESCRIPTION:Do you dream of sipping a steaming cup of mulled wine amid a flurry of joyful Christmas market shoppers?  Or fantasize about the smell of roasted nuts and spicy-sweet gingerbread wafting through the air? \nNow…what did you say your Christmas shopping plans were? \nShop our expansive Christmas Market\, curated personally by the four daughters\, featuring upscale holiday gifts and uniquely gorgeous works by local artisans and artists.  Look for  upscale holiday ornaments\, hand-knit stocking caps\, classy gift items\, water color paintings\, gorgeous water bottles\, handmade soap\, jewelry\, and children’s items.  Warm up by our fireplace\, sip your wine\, and enjoy holiday shopping this year…Merry Christmas! \n#ShopSmall\nOver 20 artists featured\, in addition to an entire market of upscale boutique gifts! \nNorthern Girl\nMegan Broeren Designs\nElin Johnson Art\nHometown Decor – Shelby Bucher\nRural Root Company\nDottir Jewelry\nJess Bruggink\nHandmade Company\nNightingale Market\nBig Stick Studio\nSeeds Jewelry\nAHHA Co.\nSchmidt Farms\nHigh Forest Knits\nKnots by Nancy\nHeather M. Roberts Art\nThe Painted Fence\nShaggy Baggy\nEden Wellness LLC\nAuntie’s What Knot Shoppe\nLori Miller\n 
URL:https://fourdaughtersvineyard.com/visit/welcome-to-our-christmas-market/2019-11-30/
ATTACH;FMTTYPE=application/pdf:https://fourdaughtersvineyard.com/wp-content/uploads/2018/11/Save-the-date-5.pdf
END:VEVENT
BEGIN:VEVENT
DTSTART;TZID=UTC:20191130T173000
DTEND;TZID=UTC:20191130T203000
DTSTAMP:20260425T063710
CREATED:20160427T190523Z
LAST-MODIFIED:20160428T213910Z
UID:10009113-1575135000-1575145800@fourdaughtersvineyard.com
SUMMARY:Live Music
DESCRIPTION:Live music in the tasting room!
URL:https://fourdaughtersvineyard.com/visit/live-music-2/2019-11-30/
END:VEVENT
END:VCALENDAR