
BEGIN:VCALENDAR
VERSION:2.0
PRODID:-//Four Daughters Vineyard &amp; Winery - ECPv6.15.20//NONSGML v1.0//EN
CALSCALE:GREGORIAN
METHOD:PUBLISH
X-WR-CALNAME:Four Daughters Vineyard &amp; Winery
X-ORIGINAL-URL:https://fourdaughtersvineyard.com
X-WR-CALDESC:Events for Four Daughters Vineyard &amp; Winery
REFRESH-INTERVAL;VALUE=DURATION:PT1H
X-Robots-Tag:noindex
X-PUBLISHED-TTL:PT1H
BEGIN:VTIMEZONE
TZID:UTC
BEGIN:STANDARD
TZOFFSETFROM:+0000
TZOFFSETTO:+0000
TZNAME:UTC
DTSTART:20190101T000000
END:STANDARD
END:VTIMEZONE
BEGIN:VEVENT
DTSTART;TZID=UTC:20200905T173000
DTEND;TZID=UTC:20200905T203000
DTSTAMP:20260422T073520
CREATED:20200904T214116Z
LAST-MODIFIED:20200904T214116Z
UID:10009546-1599327000-1599337800@fourdaughtersvineyard.com
SUMMARY:Live Music on the Patio!
DESCRIPTION:Live music returns to Four Daughters! Musical group Mac and Reino live on the patio tonight from 5:30 to 8:30pm. \n 
URL:https://fourdaughtersvineyard.com/visit/live-music-on-the-patio/
END:VEVENT
BEGIN:VEVENT
DTSTART;TZID=UTC:20200907T110000
DTEND;TZID=UTC:20200907T200000
DTSTAMP:20260422T073520
CREATED:20200904T223325Z
LAST-MODIFIED:20200904T223325Z
UID:10009548-1599476400-1599508800@fourdaughtersvineyard.com
SUMMARY:Open on Labor Day
DESCRIPTION:
URL:https://fourdaughtersvineyard.com/visit/open-on-labor-day-2/
END:VEVENT
BEGIN:VEVENT
DTSTART;TZID=UTC:20200919T173000
DTEND;TZID=UTC:20200919T203000
DTSTAMP:20260422T073520
CREATED:20200904T214223Z
LAST-MODIFIED:20200904T214223Z
UID:10009547-1600536600-1600547400@fourdaughtersvineyard.com
SUMMARY:Live Music on the Patio!
DESCRIPTION:Live music returns to Four Daughters! Musical group Matt and Laurel live on the patio tonight from 5:30 to 8:30pm. \n 
URL:https://fourdaughtersvineyard.com/visit/live-music-on-the-patio-2/
END:VEVENT
BEGIN:VEVENT
DTSTART;TZID=UTC:20200925T190000
DTEND;TZID=UTC:20200925T220000
DTSTAMP:20260422T073520
CREATED:20200821T084625Z
LAST-MODIFIED:20200827T055142Z
UID:10009544-1601060400-1601071200@fourdaughtersvineyard.com
SUMMARY:Fall Wine Pairing and 5-Course Tasting Menu
DESCRIPTION:A small group of reservation-only visitors will be whisked away to wine country and explore a tasting menu created by our chefs\,  experiencing food and wine pairing like never before. \nThe evening begins at 7pm where a small group of guests will enjoy a glass of wine and hors d’oeuvres at private tables\, spaced throughout our Barrel Room.  From there\, guests will enjoy a flight of wines and four more courses will be served.  The chef will reveal a new and exciting five course gourmet menu! \nThe evenings are reservation-only and limited in size.  Please reserve below\, email Events@FourDaughtersVineyard.com or call 507-346-7300 to make your reservation in advance. \n$75\n(plus tax and service fee)
URL:https://fourdaughtersvineyard.com/visit/wine-pairing-and-5-course-tasting-menu/
LOCATION:Cocktail Room
END:VEVENT
END:VCALENDAR