
BEGIN:VCALENDAR
VERSION:2.0
PRODID:-//Four Daughters Vineyard &amp; Winery - ECPv6.15.20//NONSGML v1.0//EN
CALSCALE:GREGORIAN
METHOD:PUBLISH
X-WR-CALNAME:Four Daughters Vineyard &amp; Winery
X-ORIGINAL-URL:https://fourdaughtersvineyard.com
X-WR-CALDESC:Events for Four Daughters Vineyard &amp; Winery
REFRESH-INTERVAL;VALUE=DURATION:PT1H
X-Robots-Tag:noindex
X-PUBLISHED-TTL:PT1H
BEGIN:VTIMEZONE
TZID:UTC
BEGIN:STANDARD
TZOFFSETFROM:+0000
TZOFFSETTO:+0000
TZNAME:UTC
DTSTART:20190101T000000
END:STANDARD
END:VTIMEZONE
BEGIN:VEVENT
DTSTART;TZID=UTC:20200104T100000
DTEND;TZID=UTC:20200104T130000
DTSTAMP:20260425T084557
CREATED:20191010T172651Z
LAST-MODIFIED:20191011T194121Z
UID:10009524-1578132000-1578142800@fourdaughtersvineyard.com
SUMMARY:Brunch & Bubbles
DESCRIPTION:Join the Four Daughters Culinary team for a fun-filled morning of baking and bubbles with plenty of sips and tastes along the way. This hands-on cooking class will guide you through three decadent brunch recipes featuring the perfect pairing – Mimosas! At the end of the class\, savor your creations during a three-course meal. \nOur Brunch & Bubbles Class Includes:\n• Hands-on cooking class in our professional cooking kitchen\n• Three-course brunch\n• Mimosa & Bellini Bar \n• Recipe cards to take home \n$85\nplus tax and service fee \nWine Club Member\n76.50 \n 
URL:https://fourdaughtersvineyard.com/visit/brunch-bubbles-2020-01-04/
ATTACH;FMTTYPE=image/jpeg:https://fourdaughtersvineyard.com/wp-content/uploads/2019/10/IMG_2607.jpg
END:VEVENT
BEGIN:VEVENT
DTSTART;TZID=UTC:20200104T173000
DTEND;TZID=UTC:20200104T203000
DTSTAMP:20260425T084557
CREATED:20160427T190523Z
LAST-MODIFIED:20160428T213910Z
UID:10009118-1578159000-1578169800@fourdaughtersvineyard.com
SUMMARY:Live Music
DESCRIPTION:Live music in the tasting room!
URL:https://fourdaughtersvineyard.com/visit/live-music-2/2020-01-04/
END:VEVENT
END:VCALENDAR