
BEGIN:VCALENDAR
VERSION:2.0
PRODID:-//Four Daughters Vineyard &amp; Winery - ECPv6.15.20//NONSGML v1.0//EN
CALSCALE:GREGORIAN
METHOD:PUBLISH
X-ORIGINAL-URL:https://fourdaughtersvineyard.com
X-WR-CALDESC:Events for Four Daughters Vineyard &amp; Winery
REFRESH-INTERVAL;VALUE=DURATION:PT1H
X-Robots-Tag:noindex
X-PUBLISHED-TTL:PT1H
BEGIN:VTIMEZONE
TZID:UTC
BEGIN:STANDARD
TZOFFSETFROM:+0000
TZOFFSETTO:+0000
TZNAME:UTC
DTSTART:20180101T000000
END:STANDARD
END:VTIMEZONE
BEGIN:VEVENT
DTSTART;TZID=UTC:20190821T203000
DTEND;TZID=UTC:20190821T220000
DTSTAMP:20260424T064914
CREATED:20190427T045724Z
LAST-MODIFIED:20190821T230007Z
UID:10009258-1566419400-1566424800@fourdaughtersvineyard.com
SUMMARY:FREE EVENT. Movies in the Vineyard! Playing Tonight…
DESCRIPTION:June 12th: Crazy Rich Asians\nJune 26th: You’ve Got Mail\nJuly 10th: A Star is Born\nJuly 24th: Steel Magnolias\nAugust 7th: Dirty Dancing\nAugust 21st: Bohemian Rhapsody \nFREE EVENT!  Join us as we screen our favorite movies throughout the summer.  Our big-screen will be set up in the vineyard and you’re all welcome!! \nAvailable for pre-order. Large Pizza and Salad for Two  \nChoose from one of the following: \nHigh on the Hog\nHand Tossed Crust\, Red Sauce\, Pepperoni\, Soppressata\, Salami\, Prosciutto\, Fresh Mozzarella & Baby Arugula \nPeppadew & Sausage\nHand Tossed Crust\, Smoked Gouda\, Mozzarella\, House-made Italian Sausage\, Peppadew Peppers\, Castelvetrano Olives\, Red Onion\, Garlic Oil\, Micro Greens & Grana \nKorean BBQ\nHand Tossed Crust\, Korean Style BBQ Grilled Chicken\, Mozzarella Blend\, House-Made Pickled Onions\, Cilantro & Sesame Seeds   \n$25\nClick below to pre-order! \nNotes:\nOutside bar will be set up and movie snacks will be available. No food\, besides pre-order items above\, will be served in the vineyard.\nBring your own blankets or chairs.\nNo outside food or drinks will be allowed.\nRain or shine. Movies will be shown in the Barrel Room\, in case of rainy weather.
URL:https://fourdaughtersvineyard.com/visit/free-event-movies-in-the-vineyard-playing-tonight-2018-06-27-2018-08-22-2-2019-07-10-2019-08-21/
END:VEVENT
END:VCALENDAR